BEGIN:VCALENDAR
CALSCALE:GREGORIAN
X-WR-TIMEZONE;VALUE=TEXT:GMT
PRODID:PEAK Corporation - piCal -
X-WR-CALNAME;VALUE=TEXT:定休日
VERSION:2.0
METHOD:PUBLISH
BEGIN:VTIMEZONE
TZID:GMT
BEGIN:STANDARD
DTSTART:19390101T000000
TZOFFSETFROM:+0000
TZOFFSETTO:+0000
TZNAME:GMT
END:STANDARD
END:VTIMEZONE
BEGIN:VEVENT
DTSTART;VALUE=DATE:20260120
DTEND;VALUE=DATE:20260121
LOCATION:
TRANSP:OPAQUE
SEQUENCE:0
UID:pical060-bd1c657ebf865b634d2a7243b0c59fea
DTSTAMP:20251203T103557Z
CATEGORIES:予定
DESCRIPTION:
SUMMARY:定休日
PRIORITY:0
CLASS:PUBLIC
END:VEVENT
END:VCALENDAR
