BEGIN:VCALENDAR
CALSCALE:GREGORIAN
X-WR-TIMEZONE;VALUE=TEXT:GMT
PRODID:PEAK Corporation - piCal -
X-WR-CALNAME;VALUE=TEXT:定休日
VERSION:2.0
METHOD:PUBLISH
BEGIN:VTIMEZONE
TZID:GMT
BEGIN:STANDARD
DTSTART:19390101T000000
TZOFFSETFROM:+0000
TZOFFSETTO:+0000
TZNAME:GMT
END:STANDARD
END:VTIMEZONE
BEGIN:VEVENT
DTSTART;VALUE=DATE:20251231
DTEND;VALUE=DATE:20260101
LOCATION:
TRANSP:OPAQUE
SEQUENCE:0
UID:pical060-b1f7cb1e2ba955cd52ab7d59b76b5f60
DTSTAMP:20251203T103344Z
CATEGORIES:予定
DESCRIPTION:
SUMMARY:定休日
PRIORITY:0
CLASS:PUBLIC
END:VEVENT
END:VCALENDAR
