BEGIN:VCALENDAR
CALSCALE:GREGORIAN
X-WR-TIMEZONE;VALUE=TEXT:GMT
PRODID:PEAK Corporation - piCal -
X-WR-CALNAME;VALUE=TEXT:定休日
VERSION:2.0
METHOD:PUBLISH
BEGIN:VTIMEZONE
TZID:GMT
BEGIN:STANDARD
DTSTART:19390101T000000
TZOFFSETFROM:+0000
TZOFFSETTO:+0000
TZNAME:GMT
END:STANDARD
END:VTIMEZONE
BEGIN:VEVENT
DTSTART;VALUE=DATE:20251202
DTEND;VALUE=DATE:20251203
LOCATION:
TRANSP:OPAQUE
SEQUENCE:0
UID:pical060-37e3f035a9042cdf9268b66fb1728c2b
DTSTAMP:20251203T102805Z
CATEGORIES:予定
DESCRIPTION:
SUMMARY:定休日
PRIORITY:0
CLASS:PUBLIC
END:VEVENT
END:VCALENDAR
