BEGIN:VCALENDAR
CALSCALE:GREGORIAN
X-WR-TIMEZONE;VALUE=TEXT:GMT
PRODID:PEAK Corporation - piCal -
X-WR-CALNAME;VALUE=TEXT:定休日
VERSION:2.0
METHOD:PUBLISH
BEGIN:VTIMEZONE
TZID:GMT
BEGIN:STANDARD
DTSTART:19390101T000000
TZOFFSETFROM:+0000
TZOFFSETTO:+0000
TZNAME:GMT
END:STANDARD
END:VTIMEZONE
BEGIN:VEVENT
DTSTART;VALUE=DATE:20251110
DTEND;VALUE=DATE:20251111
LOCATION:
TRANSP:OPAQUE
SEQUENCE:0
UID:pical060-83ea95c079776ccf5c22ff2d244fe68c
DTSTAMP:20250901T120813Z
CATEGORIES:予定
DESCRIPTION:
SUMMARY:定休日
PRIORITY:0
CLASS:PUBLIC
END:VEVENT
END:VCALENDAR
